BEGIN:VCALENDAR
VERSION:2.0
PRODID:-//Tukios.com/
BEGIN:VEVENT
UID:677d5587-b67a-4cb7-b28a-5af226c29644@www.simplycremationgb.com
DTSTAMP:20260420T000338Z
DTSTART:20260501T180000Z
DTEND:20260501T210000Z
SUMMARY:Celebration of Life
DESCRIPTION:
URL:https://www.simplycremationgb.com/obituaries/vicki-erickson
LOCATION:Hidden Waters Golf Course E4480 Wisconsin 22  Waupaca WI 54981
GEO:44.368071;-89.004474
END:VEVENT
END:VCALENDAR