BEGIN:VCALENDAR
VERSION:2.0
PRODID:-//Tukios.com/
BEGIN:VEVENT
UID:35dfe62e-ab14-4e9c-9806-7732213c3133@www.simplycremationgb.com
DTSTAMP:20260423T014147Z
DTSTART:20260516T170000Z
DTEND:20260516T210000Z
SUMMARY:Celebration of Life
DESCRIPTION:
URL:https://www.simplycremationgb.com/obituaries/kurt-pelegrin
LOCATION:Blue Collar Bar & Grill 1313 South Broadway  Green Bay WI 54304
GEO:44.5020508;-88.0307914
END:VEVENT
END:VCALENDAR